Workbook

Sheet Orders
A1: Order no. | B1: Order date | C1: Customer | D1: Order value | E1: Received so far | F1: Promised delivery date | G1: Delivery status | H1: Pending amount | I1: Payment status | J1: Flag
A2: SO-001 | B2: 46266 | C2: Riverside Cleaning Co | D2: 850 | E2: 850 | F2: 46270 | G2: Delivered | H2: =IF(D2="","",D2-E2) -> 0 | I2: Paid | J2: =IF(AND(F2<>"",F2<TODAY(),G2<>"Delivered"),"LATE","")
A3: SO-002 | B3: 46273 | C3: Marco's Auto Detail | D3: 1200 | E3: 600 | F3: 46277 | G3: Delivered | H3: =IF(D3="","",D3-E3) -> 600 | I3: Partial | J3: =IF(AND(F3<>"",F3<TODAY(),G3<>"Delivered"),"LATE","")
A4: SO-003 | B4: 46279 | C4: Green Lawn Services | D4: 450 | E4: 0 | F4: 46283 | G4: Delivered | H4: =IF(D4="","",D4-E4) -> 450 | I4: Unpaid | J4: =IF(AND(F4<>"",F4<TODAY(),G4<>"Delivered"),"LATE","")
A5: SO-004 | B5: 46285 | C5: Patriot Appliance | D5: 2300 | E5: 1000 | F5: 46291 | G5: Partial | H5: =IF(D5="","",D5-E5) -> 1300 | I5: Partial | J5: =IF(AND(F5<>"",F5<TODAY(),G5<>"Delivered"),"LATE","") -> LATE
A6: SO-005 | B6: 46290 | C6: Compass Barbershop | D6: 300 | E6: 0 | F6: 46294 | G6: Open | H6: =IF(D6="","",D6-E6) -> 300 | I6: Unpaid | J6: =IF(AND(F6<>"",F6<TODAY(),G6<>"Delivered"),"LATE","") -> LATE
A7: SO-006 | B7: 46294 | C7: 864 Maintenance | D7: 1750 | E7: 0 | F7: 46305 | G7: Open | H7: =IF(D7="","",D7-E7) -> 1750 | I7: Unpaid | J7: =IF(AND(F7<>"",F7<TODAY(),G7<>"Delivered"),"LATE","")
H8: =IF(D8="","",D8-E8) | J8: =IF(AND(F8<>"",F8<TODAY(),G8<>"Delivered"),"LATE","")
H9: =IF(D9="","",D9-E9) | J9: =IF(AND(F9<>"",F9<TODAY(),G9<>"Delivered"),"LATE","")
H10: =IF(D10="","",D10-E10) | J10: =IF(AND(F10<>"",F10<TODAY(),G10<>"Delivered"),"LATE","")
H11: =IF(D11="","",D11-E11) | J11: =IF(AND(F11<>"",F11<TODAY(),G11<>"Delivered"),"LATE","")
H12: =IF(D12="","",D12-E12) | J12: =IF(AND(F12<>"",F12<TODAY(),G12<>"Delivered"),"LATE","")
H13: =IF(D13="","",D13-E13) | J13: =IF(AND(F13<>"",F13<TODAY(),G13<>"Delivered"),"LATE","")
H14: =IF(D14="","",D14-E14) | J14: =IF(AND(F14<>"",F14<TODAY(),G14<>"Delivered"),"LATE","")
H15: =IF(D15="","",D15-E15) | J15: =IF(AND(F15<>"",F15<TODAY(),G15<>"Delivered"),"LATE","")
H16: =IF(D16="","",D16-E16) | J16: =IF(AND(F16<>"",F16<TODAY(),G16<>"Delivered"),"LATE","")
H17: =IF(D17="","",D17-E17) | J17: =IF(AND(F17<>"",F17<TODAY(),G17<>"Delivered"),"LATE","")
H18: =IF(D18="","",D18-E18) | J18: =IF(AND(F18<>"",F18<TODAY(),G18<>"Delivered"),"LATE","")
H19: =IF(D19="","",D19-E19) | J19: =IF(AND(F19<>"",F19<TODAY(),G19<>"Delivered"),"LATE","")
H20: =IF(D20="","",D20-E20) | J20: =IF(AND(F20<>"",F20<TODAY(),G20<>"Delivered"),"LATE","")

Sheet Summary
A1: SALES ORDER TRACKER — SUMMARY
A3: Total order value | B3: =SUM(Orders!D2:D1000) -> 6850
A4: Total received | B4: =SUM(Orders!E2:E1000) -> 2450
A5: Total pending | B5: =SUM(Orders!H2:H1000) -> 4400
A7: Open orders | B7: =COUNTIF(Orders!G2:G1000,"Open") -> 2
A8: Late orders | B8: =COUNTIF(Orders!J2:J1000,"LATE") -> 2
A9: Delivered but UNPAID | B9: =COUNTIFS(Orders!G2:G1000,"Delivered",Orders!I2:I1000,"Unpaid") -> 1
